BEGIN:VCALENDAR
VERSION:2.0
PRODID:-//Tour Historia - ECPv5.1.5//NONSGML v1.0//EN
CALSCALE:GREGORIAN
METHOD:PUBLISH
X-WR-CALNAME:Tour Historia
X-ORIGINAL-URL:https://tourhistoria.es
X-WR-CALDESC:Eventos para Tour Historia
BEGIN:VTIMEZONE
TZID:Europe/Paris
BEGIN:DAYLIGHT
TZOFFSETFROM:+0100
TZOFFSETTO:+0200
TZNAME:CEST
DTSTART:20190331T010000
END:DAYLIGHT
BEGIN:STANDARD
TZOFFSETFROM:+0200
TZOFFSETTO:+0100
TZNAME:CET
DTSTART:20191027T010000
END:STANDARD
END:VTIMEZONE
BEGIN:VEVENT
DTSTART;VALUE=DATE:20190823
DTEND;VALUE=DATE:20190902
DTSTAMP:20260425T150129
CREATED:20190728T144139Z
LAST-MODIFIED:20190728T144139Z
UID:2340-1566518400-1567382399@tourhistoria.es
SUMMARY:Fiesta de las Guerras Cántabras 2019\, la Guerra Astur-Cántabra
DESCRIPTION:La “Fiesta de las Guerras Cántabras”(29 al 19 antes de Cristo) es una recreación histórica que pretende revivir los hechos ocurridos hace más de dos mil años. También se conocidas como las  guerras astur-cántabras. \nEste conflicto bélico enfrentó a los pueblos del noroeste peninsular\, cántabros y astures\, con el imperio romano. Éste episodio supuso la culminación de la conquista de la Península Ibérica por parte de Roma. El eco de la resistencia indígena conformo una leyenda épica que se ha mantenido a lo largo de los tiempos. \nEn la actualidad\, la localidad de los Corrales de Buelna acoge la fiesta de Guerras Cántabras de la mano de sus habitantes. Los lugareños viven y participan con una gran pasión que contagian al visitante. \nEsta Fiesta de Interés Turístico Nacional se ha convertido en pocos años en una referencia nacional. Su éxito se debe a la diversidad de eventos que desarrolla y a la calidad y realismo de sus actuaciones y recreaciones. \nEl visitante\, al volver la mirada\, descubre que está inmerso en un viaje al pasado\, retrotrayéndose 2.000 años. Regias legiones romanas  desfilando y batallando\, tribus cántabras unidas en la lucha contra el Imperio\, trajes deslumbrantes\, armas de la época\, poblados de ensueño\, desfiles… \nLas representaciones teatrales se desarrollan durante los dos fines de semana en que se celebra la festividad. La historia apasionante de Cantabria a través de decenas de actrices y actores que\, dirigidos brillantemente\, emocionan a un público involucrado e integrado en la fiesta. \nEl ambiente nocturno amenizado con festivales\, actuaciones musicales y músicas ancestrales que flotan en el aire junto a las hogueras de los campamentos nos transportará a otras épocas\, proporcionándonos una experiencia que no se borrará de nuestra mente. \n  \n
URL:https://tourhistoria.es/evento/fiesta-de-las-guerras-cantabras-2019-la-guerra-astur-cantabra/
LOCATION:Los Corrales de Buelna\, Av. Cantabria\, 3\,\, Corrales de Buelna\, Cantabria\, 39400\, España
ATTACH;FMTTYPE=image/jpeg:https://tourhistoria.es/wp-content/uploads/2019/07/guerras-cántabras-2019.jpg
ORGANIZER;CN="Asociaci%C3%B3n%20Guerras%20C%C3%A1ntabras":MAILTO:asociacion@guerrascantabras.net
END:VEVENT
END:VCALENDAR