BEGIN:VCALENDAR
VERSION:2.0
PRODID:-//Tour Historia - ECPv5.1.5//NONSGML v1.0//EN
CALSCALE:GREGORIAN
METHOD:PUBLISH
X-WR-CALNAME:Tour Historia
X-ORIGINAL-URL:https://tourhistoria.es
X-WR-CALDESC:Eventos para Tour Historia
BEGIN:VTIMEZONE
TZID:Europe/Paris
BEGIN:DAYLIGHT
TZOFFSETFROM:+0100
TZOFFSETTO:+0200
TZNAME:CEST
DTSTART:20190331T010000
END:DAYLIGHT
BEGIN:STANDARD
TZOFFSETFROM:+0200
TZOFFSETTO:+0100
TZNAME:CET
DTSTART:20191027T010000
END:STANDARD
END:VTIMEZONE
BEGIN:VEVENT
DTSTART;VALUE=DATE:20190814
DTEND;VALUE=DATE:20190822
DTSTAMP:20260424T221645
CREATED:20190728T113325Z
LAST-MODIFIED:20190728T113325Z
UID:2327-1565740800-1566431999@tourhistoria.es
SUMMARY:Semana Renacentista de Medina del Campo 2019
DESCRIPTION:Como cada año llega agosto y con él regresa la Semana Renacentista de Medina del Campo. Después del estallido de ilusión e implicación de medinenses y visitantes en las primeras ediciones. Medina del Campo se prepara de nuevo para recordar su época de mayor esplendor\, los siglos XV y XVI. \nSiguiendo con la misma filosofía de trabajo compartido por colectivos\, paradas\, empresas y entidades que participan y colaboran en la confección de la programación. La Semana Renacentista amplía contenidos abriendo sus puertas a nuevas propuestas culturales y turísticas como el Festival de Videoarte y Mapping de Castilla y León. \nLas calles de Medina del Campo se llenarán de color\, de música y del ambiente de los antiguos mercados. En esta atmósfera tan especial participarán cerca de 4.000 figurantes\, hombres y mujeres\, niños\, jóvenes y mayores de Medina.  Todo ellos darán vida a los personajes ilustres que recorrieron las calles y plazas de nuestra querida Villa. \nOrgullosos de esta movilización popular y agradecidos por la multitudinaria colaboración de la ciudadanía\, afrontamos la Semana Renacentista 2018 desde la seguridad de disfrutar de nuestra rica historia y acoger a los miles de visitantes que llegarán a Medina del Campo como se merecen. \n
URL:https://tourhistoria.es/evento/semana-renacentista-de-medina-del-campo-2019/
LOCATION:Medina del Campo\, Calle Gamazo\,1\, Medina del Campo\, Valladolid\, 47400\, España
ATTACH;FMTTYPE=image/jpeg:https://tourhistoria.es/wp-content/uploads/2019/07/Semana-Renacentista-2019-1.jpg
ORGANIZER;CN="Ayuntamiento%20Medina%20del%20Campo":MAILTO:medina21@medinadelcampo.es
END:VEVENT
END:VCALENDAR