BEGIN:VCALENDAR
VERSION:2.0
PRODID:-//Tour Historia - ECPv5.1.5//NONSGML v1.0//EN
CALSCALE:GREGORIAN
METHOD:PUBLISH
X-WR-CALNAME:Tour Historia
X-ORIGINAL-URL:https://tourhistoria.es
X-WR-CALDESC:Eventos para Tour Historia
BEGIN:VTIMEZONE
TZID:Europe/Paris
BEGIN:DAYLIGHT
TZOFFSETFROM:+0100
TZOFFSETTO:+0200
TZNAME:CEST
DTSTART:20190331T010000
END:DAYLIGHT
BEGIN:STANDARD
TZOFFSETFROM:+0200
TZOFFSETTO:+0100
TZNAME:CET
DTSTART:20191027T010000
END:STANDARD
END:VTIMEZONE
BEGIN:VEVENT
DTSTART;VALUE=DATE:20190802
DTEND;VALUE=DATE:20190805
DTSTAMP:20260421T203835
CREATED:20190728T085713Z
LAST-MODIFIED:20190728T085713Z
UID:2320-1564704000-1564963199@tourhistoria.es
SUMMARY:Sinodal de Aguilafuente 2019\, el primer libro impreso en España
DESCRIPTION:El Sinodal de Aguilafuente es el primer libro (incunable) impreso en España y en español\, en el año 1472. Contiene las actas del sínodo diocesano que tuvo lugar en Aguilafuente (Segovia) en junio de ese mismo año\, convocado por el obispo Juan Arias Dávila. En el sínodo se tratan diversos aspectos de la vida eclesial de la diócesis segoviana\, que afectaban tanto a religiosos como a laicos. \nAguilafuente está vinculada a la historia del libro por darle el nombre al primer libro impreso en España\, en 1472\, el conocido como Sinodal de Aguilafuente. \nEl libro contiene las actas del Sínodo diocesano celebrado en la villa en los primeros días de junio de ese año. Como conmemoración a dicho acontecimiento se realiza cada año\, el primer fin de semana de agosto\, una feria medieval en la que\, entre otras actividades\, se representa teatralmente el Sínodo. \n
URL:https://tourhistoria.es/evento/sinodal-de-aguilafuente-2019-el-primer-libro-impreso-en-espana/
LOCATION:Segovia\, Plaza de San Juan\,1\, Aguilafuente\, Segovia\, 40340\, España
ATTACH;FMTTYPE=image/jpeg:https://tourhistoria.es/wp-content/uploads/2019/07/cartel-2019-3-peque-1.jpg
ORGANIZER;CN="Sinodal%20de%20Aguilafuente":MAILTO:elsinodal@gmail.com
END:VEVENT
END:VCALENDAR