BEGIN:VCALENDAR
VERSION:2.0
PRODID:-//Tour Historia - ECPv5.1.5//NONSGML v1.0//EN
CALSCALE:GREGORIAN
METHOD:PUBLISH
X-WR-CALNAME:Tour Historia
X-ORIGINAL-URL:https://tourhistoria.es
X-WR-CALDESC:Eventos para Tour Historia
BEGIN:VTIMEZONE
TZID:Europe/Paris
BEGIN:DAYLIGHT
TZOFFSETFROM:+0100
TZOFFSETTO:+0200
TZNAME:CEST
DTSTART:20190331T010000
END:DAYLIGHT
BEGIN:STANDARD
TZOFFSETFROM:+0200
TZOFFSETTO:+0100
TZNAME:CET
DTSTART:20191027T010000
END:STANDARD
END:VTIMEZONE
BEGIN:VEVENT
DTSTART;VALUE=DATE:20190715
DTEND;VALUE=DATE:20190722
DTSTAMP:20260421T160757
CREATED:20190706T102153Z
LAST-MODIFIED:20190706T103638Z
UID:2186-1563148800-1563753599@tourhistoria.es
SUMMARY:Llega la Semana Medieval de Estella-Lizarra
DESCRIPTION:Seguimos en Navarra\, y después de los Sanfermines\, nuestra próxima parada en el calendario de fiestas históricas es la Semana Medieval. El día 15 y hasta el 21 de julio\, llega la Semana Medieval de Estella-Lizarra. \nDe nuevo una ciudad entera se volcará en proporcionar a los visitantes una estupenda recreación medieval. Cientos de entusiastas y entregados habitantes de Estella-Lizarra trabajan sin descanso para llevar a los asistentes de vuelta a la Edad Media. Al año 1090 cuando la ciudad se fundó y el rey Sancho Ramírez le otorgó su fuero. \nEste pueblo de la ruta Jacobea llenara estos días sus calles de estandartes y pendones. Las casas se tornarán en improvisados castillos\, y los restaurantes se volverán posadas medievales donde se de gustaran delicias y manjares del medievo. \nHabra bufones\, Caballeros\, damiselas y trovadores. Actividades y espectáculos de cetrería\, malabares\, representaciones teatrales callejeras.y lucha entre caballeros. Todo dispuesto\, todo cuidado con mimo y pensado hasta el último detalle para disfrute del visitante. \nNo pueden dejar de admirarse el mercado de Antaño o la Rua de los Oficios. Donde artesanos casi de otro tiempo ofrecen sus productos\, e incluso los fabrican al momento. \nEn definitiva una espectacular recreación histórico-medieval\, que a nadie dejará indiferente. Una experiencia visual y sensitiva que si se tiene oportunidad no debe dejar de verse. Siguiente parada Navarra\, llega la Semana Medieval de Estella-Lizarra. \n
URL:https://tourhistoria.es/evento/llega-la-semana-medieval-de-estella-lizarra/
LOCATION:Estella – Lizarra\, Paseo de la Inmaculada\, 1\, Estella - Lizarra\, Navarra\, 31200\, España
ATTACH;FMTTYPE=image/jpeg:https://tourhistoria.es/wp-content/uploads/2019/07/image-2.jpeg
ORGANIZER;CN="Ayuntamiento%20de%20Estella%20-%20Lizarra":MAILTO:info@estella-lizarra.com
END:VEVENT
BEGIN:VEVENT
DTSTART;VALUE=DATE:20190718
DTEND;VALUE=DATE:20190728
DTSTAMP:20260421T160757
CREATED:20190708T180245Z
LAST-MODIFIED:20190708T180245Z
UID:2207-1563408000-1564271999@tourhistoria.es
SUMMARY:Reino de Nájera vuelve el espectáculo
DESCRIPTION:El mes de julio acoge algunas de las celebraciones históricas mas especiales y espectaculares.Esta vez nos movemos a la Rioja\, concretamente hasta la población de Nájera. El próximo día 18 y hasta el 27 de julio tendrá lugar una representación teatral medieval muy especial. El Reino de Nájera vuelve el espectáculo. \nQue es el Reino de Nájera vuelve el espectáculo?\nEs una representación teatral medieval\, donde se recrean e interpretan algunos de los mayores momentos históricos de la ciudad en los siglos X y XI. \nMomentos como el descubrimiento por parte del rey Sancho III el Mayor\, de una imagen de la Virgen durante una cacería. La cual dio lugar a la construcción del Monasterio de Santa María la Real. Y otros como una boda real\, una audiencia papal\, o la coronación de cuatro príncipes a la vez. \nDonde tendrá lugar El Reino de Nájera vuelve el espectáculo?\nEsta representación nació en el Claustro de los Caballeros del Monasterio de Santa María la Real en 1969. Y allí se sigue representando\, siendo este año 2019 su 51 edición. \nCuenta con la imprescindible y necesaria aportación de sus habitantes y vecinos. Una combinación de sacrificio y entusiasmo a raudales que hacen de esta recreación una experiencia inolvidable. \nMas de 200 actores locales colaboran en este espectáculo\, que cuida hasta el último detalle\, las ropas\, las telas\, los abalorios\, el atrezzo y el decorado han ido evolucionando en calidad y realismo con los años. El nivel interpretativo es exquisito\, a la altura del esfuerzo y pasión de sus interpretes. \nNo en vano el Reino de Nájera vuelve el espectáculo\, ha sido galardonada con premios como el Racimo de Oro en 1970\, Desarrollo Turístico de la Rioja en 1995.  En 2015 fue declarada Bien de Interés Cultural\, y en 2018 el gobierno de la Rioja la distinguió con la Medalla de la Rioja\, su mas alta condecoración. \nAdemás este año\, estará bajo la dirección por primera vez de una mujer\, Mabel del Pozo. Este cóctel de atrezzo\, decorado\, interpretes y dirección\, hacen de este evento un gran espectáculo. Una experiencia de visual de gran realismo \, un regreso al pasado maravilloso\, un viaje en el tiempo\, en vivo y en directo. \n  \n
URL:https://tourhistoria.es/evento/reino-de-najera-vuelve-el-espectaculo/
LOCATION:Nájera\, Plaza de España\, 1\, Nájera\, La Rioja\, 26300\, España
ATTACH;FMTTYPE=image/jpeg:https://tourhistoria.es/wp-content/uploads/2019/07/1-Reparto-del-Reino-W.jpg
ORGANIZER;CN="Asociaci%C3%B3n%20de%20Amigos%20de%20las%20Cr%C3%B3nicas%20Najerenses":MAILTO:aacn.reinodenajera@gmail.com
END:VEVENT
END:VCALENDAR